BEGIN:VCALENDAR
VERSION:2.0
PRODID:-//wp-events-plugin.com//7.2.3.1//EN
TZID:Europe/Paris
X-WR-TIMEZONE:Europe/Paris
BEGIN:VEVENT
UID:153@choisytacoop.fr
DTSTART;TZID=Europe/Paris:20260304T190000
DTEND;TZID=Europe/Paris:20260304T200000
DTSTAMP:20260204T170847Z
URL:https://choisytacoop.fr/agenda/formation-initiale-7/
SUMMARY:Formation initiale
DESCRIPTION:Une formation pour découvrir « Choisy ta coop »\nChoisy ta
  coop\, épicerie coopérative et participative fonctionne par et pour ses
  adhérents. Nous avons besoin de vous pour développer la coopérative\, 
 aménager le futur local\, faire fonctionner votre épicerie sur le long t
 erme.\n\nNotre ambition est de faire vivre un lieu qui puisse à la fois 
 être un lieu d’achat respectueux des producteurs et de la planète\, o
 ù chacun s’investit et donne de son temps pour faire vivre l’épiceri
 e \; et aussi un lieu de partage d’expériences\, où l’éducation pop
 ulaire et la transmission trouvent toute leur place\, un lieu de vie. Nous
  favorisons les circuits courts et nouons des partenariats durables avec l
 es producteurs\, les artisans et tout autre acteur de l’économie locale
  dans le respect de leur travail.\n\nSi vous êtes intéressés\, venez pa
 rticipez à une de nos sessions de formation initiale. Aucun engagement ne
  découle de cette présentation. Si toutefois\, vous décidez de venir pa
 rticiper à l’aventure à nos cotés\, à l’issue de cette formation (
 1h30 environ) vous serez en mesure démarrer vos créneaux au sein de notr
 e coopérative\, en premier lieu en assistance de deux membres plus aguerr
 is puis en duo avec un autre coopérateurs.\nLes points clés de cette for
 mation :\n\n 	Présentation de la coopérative « Choisy ta coop »\, de
  nos valeurs et de notre raison d’être\n 	Description du fonctionnement
 \n 	Présentation du mode de gouvernance et des différentes instances\n 	
 Questions/réponses\n\nSi comme nous\, vous avez envie de :\n\n 	Changer v
 otre manière de consommer\n 	Faire des gestes significatifs pour la plan
 ète\n 	Vous investir dans un projet à impact positif\n\nSi comme nous\, 
 vous pensez que :\n\n 	La multiplication des petites actions fondent les g
 rands changements\n 	Les producteurs ont droit à une rémunération juste
  pour le fruit de leur travail\n 	La consommation de masse a fait son temp
 s\n\nAlors\, vous avez toute votre place dans cette aventure.\n2.15.1.0\n2
 .15.1.0
ATTACH;FMTTYPE=image/jpeg:https://choisytacoop.fr/wp-content/uploads/2025/
 01/2024-03-21-Atelier-creatif_02.jpg
CATEGORIES:Formations
LOCATION:Choisy ta coop\, le bocal\, 22-24 avenue d'Alfortville\, Choisy-le
 -Roi\, France\, 94600\, France
X-APPLE-STRUCTURED-LOCATION;VALUE=URI;X-ADDRESS=22-24 avenue d'Alfortville\
 , Choisy-le-Roi\, France\, 94600\, France;X-APPLE-RADIUS=100;X-TITLE=Chois
 y ta coop\, le bocal:geo:0,0
END:VEVENT
BEGIN:VTIMEZONE
TZID:Europe/Paris
X-LIC-LOCATION:Europe/Paris
BEGIN:STANDARD
DTSTART:20251026T020000
TZOFFSETFROM:+0200
TZOFFSETTO:+0100
TZNAME:CET
END:STANDARD
END:VTIMEZONE
END:VCALENDAR