BEGIN:VCALENDAR
VERSION:2.0
PRODID:-//wp-events-plugin.com//7.2.3.1//EN
TZID:Europe/Paris
X-WR-TIMEZONE:Europe/Paris
BEGIN:VEVENT
UID:149@choisytacoop.fr
DTSTART;TZID=Europe/Paris:20260216T193000
DTEND;TZID=Europe/Paris:20260216T203000
DTSTAMP:20260117T171928Z
URL:https://choisytacoop.fr/agenda/formation-initiale-5/
SUMMARY:Formation initiale
DESCRIPTION:\n\nUne formation pour découvrir "Choisy ta coop"\nChoisy ta c
 oop\, épicerie coopérative et participative fonctionne par et pour ses a
 dhérents. Nous avons besoin de vous pour développer la coopérative\, am
 énager le futur local\, faire fonctionner votre épicerie sur le long ter
 me.\n\nNotre ambition est de faire vivre un lieu qui puisse à la fois êt
 re un lieu d’achat respectueux des producteurs et de la planète\, où c
 hacun s’investit et donne de son temps pour faire vivre l’épicerie \;
  et aussi un lieu de partage d’expériences\, où l’éducation populai
 re et la transmission trouvent toute leur place\, un lieu de vie. Nous fav
 orisons les circuits courts et nouons des partenariats durables avec les p
 roducteurs\, les artisans et tout autre acteur de l’économie locale dan
 s le respect de leur travail.\n\nSi vous êtes intéressés\, venez partic
 ipez à une de nos sessions de formation initiale. Aucun engagement ne dé
 coule de cette présentation. Si toutefois\, vous décidez de venir partic
 iper à l'aventure à nos cotés\, à l'issue de cette formation (1h30 env
 iron) vous serez en mesure démarrer vos créneaux au sein de notre coopé
 rative\, en premier lieu en assistance de deux membres plus aguerris puis 
 en duo avec un autre coopérateurs.\n\nLes points clés de cette formation
  :\n\n 	Présentation de la coopérative "Choisy ta coop"\, de nos valeurs
  et de notre raison d'être\n 	Description du fonctionnement\n 	Présentat
 ion du mode de gouvernance et des différentes instances\n 	Questions/rép
 onses\n\nSi comme nous\, vous avez envie de :\n\n 	Changer votre manière 
 de consommer\n 	Faire des gestes significatifs pour la planète\n 	Vous in
 vestir dans un projet à impact positif\n\nSi comme nous\, vous pensez que
  :\n\n 	La multiplication des petites actions fondent les grands changemen
 ts\n 	Les producteurs ont droit à une rémunération juste pour le fruit 
 de leur travail\n 	La consommation de masse a fait son temps\n\nAlors\, vo
 us avez toute votre place dans cette aventure.\n\n\n\n2.15.1.0\n2.15.1.0\n
 2.15.1.0\n2.15.1.0\n2.15.1.0\n2.15.1.0\n2.15.1.0
ATTACH;FMTTYPE=image/jpeg:https://choisytacoop.fr/wp-content/uploads/2025/
 01/2024-03-30-Atelier-maison-de-poupee_17.jpg
CATEGORIES:Formations
LOCATION:Choisy ta coop\, le bocal\, 22-24 avenue d'Alfortville\, Choisy-le
 -Roi\, France\, 94600\, France
X-APPLE-STRUCTURED-LOCATION;VALUE=URI;X-ADDRESS=22-24 avenue d'Alfortville\
 , Choisy-le-Roi\, France\, 94600\, France;X-APPLE-RADIUS=100;X-TITLE=Chois
 y ta coop\, le bocal:geo:0,0
END:VEVENT
BEGIN:VTIMEZONE
TZID:Europe/Paris
X-LIC-LOCATION:Europe/Paris
BEGIN:STANDARD
DTSTART:20251026T020000
TZOFFSETFROM:+0200
TZOFFSETTO:+0100
TZNAME:CET
END:STANDARD
END:VTIMEZONE
END:VCALENDAR