BEGIN:VCALENDAR
VERSION:2.0
PRODID:-//wp-events-plugin.com//7.2.3.1//EN
TZID:Europe/Paris
X-WR-TIMEZONE:Europe/Paris
BEGIN:VEVENT
UID:151@choisytacoop.fr
DTSTART;TZID=Europe/Paris:20260129T193000
DTEND;TZID=Europe/Paris:20260129T203000
DTSTAMP:20260120T074932Z
URL:https://choisytacoop.fr/agenda/formation-initiale-2/
SUMMARY:Formation initiale
DESCRIPTION:\nUne formation pour découvrir "Choisy ta coop"\nChoisy ta coo
 p\, épicerie coopérative et participative fonctionne par et pour ses adh
 érents. Nous avons besoin de vous pour développer la coopérative\, amé
 nager le futur local\, faire fonctionner votre épicerie sur le long terme
 .\n\nNotre ambition est de faire vivre un lieu qui puisse à la fois être
  un lieu d’achat respectueux des producteurs et de la planète\, où cha
 cun s’investit et donne de son temps pour faire vivre l’épicerie \; e
 t aussi un lieu de partage d’expériences\, où l’éducation populaire
  et la transmission trouvent toute leur place\, un lieu de vie. Nous favor
 isons les circuits courts et nouons des partenariats durables avec les pro
 ducteurs\, les artisans et tout autre acteur de l’économie locale dans 
 le respect de leur travail.\n\nSi vous êtes intéressés\, venez particip
 ez à une de nos sessions de formation initiale. Aucun engagement ne déco
 ule de cette présentation. Si toutefois\, vous décidez de venir particip
 er à l'aventure à nos cotés\, à l'issue de cette formation (1h30 envir
 on) vous serez en mesure démarrer vos créneaux au sein de notre coopéra
 tive\, en premier lieu en assistance de deux membres plus aguerris puis en
  duo avec un autre coopérateurs.\n\nLes points clés de cette formation :
 \n\n 	Présentation de la coopérative "Choisy ta coop"\, de nos valeurs e
 t de notre raison d'être\n 	Description du fonctionnement\n 	Présentatio
 n du mode de gouvernance et des différentes instances\n 	Questions/répon
 ses\n\nSi comme nous\, vous avez envie de :\n\n 	Changer votre manière de
  consommer\n 	Faire des gestes significatifs pour la planète\n 	Vous inve
 stir dans un projet à impact positif\n\nSi comme nous\, vous pensez que :
 \n\n 	La multiplication des petites actions fondent les grands changements
 \n 	Les producteurs ont droit à une rémunération juste pour le fruit de
  leur travail\n 	La consommation de masse a fait son temps\n\nAlors\, vous
  avez toute votre place dans cette aventure.\n\n\n2.15.1.0\n2.15.1.0
ATTACH;FMTTYPE=image/jpeg:https://choisytacoop.fr/wp-content/uploads/2025/
 01/2024-03-30-Atelier-maison-de-poupee_17.jpg
CATEGORIES:Formations
LOCATION:Choisy ta coop\, le bocal\, 22-24 avenue d'Alfortville\, Choisy-le
 -Roi\, France\, 94600\, France
X-APPLE-STRUCTURED-LOCATION;VALUE=URI;X-ADDRESS=22-24 avenue d'Alfortville\
 , Choisy-le-Roi\, France\, 94600\, France;X-APPLE-RADIUS=100;X-TITLE=Chois
 y ta coop\, le bocal:geo:0,0
END:VEVENT
BEGIN:VTIMEZONE
TZID:Europe/Paris
X-LIC-LOCATION:Europe/Paris
BEGIN:STANDARD
DTSTART:20251026T020000
TZOFFSETFROM:+0200
TZOFFSETTO:+0100
TZNAME:CET
END:STANDARD
END:VTIMEZONE
END:VCALENDAR